Package: CGHbase Version: 1.69.0 Command: rm -rf CGHbase.buildbin-libdir && mkdir CGHbase.buildbin-libdir && /Users/biocbuild/BBS/utils/build-universal.sh CGHbase_1.69.0.tar.gz /Library/Frameworks/R.framework/Resources/bin/R CGHbase.buildbin-libdir StartedAt: 2025-04-27 22:10:05 -0400 (Sun, 27 Apr 2025) EndedAt: 2025-04-27 22:10:08 -0400 (Sun, 27 Apr 2025) EllapsedTime: 3.0 seconds RetCode: 0 Status: OK PackageFile: CGHbase_1.69.0.tgz PackageFileSize: 1.061 MiB