Package: CGEN Version: 3.45.0 Command: chmod a+r CGEN -R && F:\biocbuild\bbs-3.22-bioc\R\bin\R.exe CMD build --keep-empty-dirs --no-resave-data CGEN StartedAt: 2025-08-14 19:03:21 -0400 (Thu, 14 Aug 2025) EndedAt: 2025-08-14 19:04:46 -0400 (Thu, 14 Aug 2025) EllapsedTime: 85.2 seconds RetCode: 0 Status: OK PackageFile: CGEN_3.45.0.tar.gz PackageFileSize: 822 KiB