Package: CGEN Version: 3.45.0 Command: rm -rf CGEN.buildbin-libdir && mkdir CGEN.buildbin-libdir && F:\biocbuild\bbs-3.22-bioc\R\bin\R.exe CMD INSTALL --build --library=CGEN.buildbin-libdir CGEN_3.45.0.tar.gz StartedAt: 2025-08-15 09:56:04 -0400 (Fri, 15 Aug 2025) EndedAt: 2025-08-15 09:57:15 -0400 (Fri, 15 Aug 2025) EllapsedTime: 71.1 seconds RetCode: 0 Status: OK PackageFile: CGEN_3.45.0.zip PackageFileSize: 1.756 MiB