Package: CGEN Version: 3.45.0 Command: rm -rf CGEN.buildbin-libdir && mkdir CGEN.buildbin-libdir && /Users/biocbuild/BBS/utils/build-universal.sh CGEN_3.45.0.tar.gz /Library/Frameworks/R.framework/Resources/bin/R CGEN.buildbin-libdir StartedAt: 2025-05-02 00:35:39 -0400 (Fri, 02 May 2025) EndedAt: 2025-05-02 00:36:17 -0400 (Fri, 02 May 2025) EllapsedTime: 38.3 seconds RetCode: 0 Status: OK PackageFile: CGEN_3.45.0.tgz PackageFileSize: 1.928 MiB