Package: CGEN Version: 3.43.0 Command: /home/biocbuild/R/R/bin/R CMD INSTALL CGEN StartedAt: 2025-01-29 20:19:58 -0000 (Wed, 29 Jan 2025) EndedAt: 2025-01-29 20:20:30 -0000 (Wed, 29 Jan 2025) EllapsedTime: 32.5 seconds RetCode: 0 Status: OK