Package: CGEN Version: 3.45.0 Command: /Library/Frameworks/R.framework/Resources/bin/R CMD INSTALL CGEN StartedAt: 2025-05-02 15:03:10 -0400 (Fri, 02 May 2025) EndedAt: 2025-05-02 15:03:11 -0400 (Fri, 02 May 2025) EllapsedTime: 0.9 seconds RetCode: 1 Status: ERROR