Package: CFAssay Version: 1.43.0 Command: chmod a+r CFAssay -R && F:\biocbuild\bbs-3.22-bioc\R\bin\R.exe CMD build --keep-empty-dirs --no-resave-data CFAssay StartedAt: 2025-08-14 19:02:49 -0400 (Thu, 14 Aug 2025) EndedAt: 2025-08-14 19:03:08 -0400 (Thu, 14 Aug 2025) EllapsedTime: 19.0 seconds RetCode: 0 Status: OK PackageFile: CFAssay_1.43.0.tar.gz PackageFileSize: 193.3 KiB