Package: CFAssay Version: 1.43.0 Command: rm -rf CFAssay.buildbin-libdir && mkdir CFAssay.buildbin-libdir && F:\biocbuild\bbs-3.22-bioc\R\bin\R.exe CMD INSTALL --build --library=CFAssay.buildbin-libdir CFAssay_1.43.0.tar.gz StartedAt: 2025-08-15 09:55:59 -0400 (Fri, 15 Aug 2025) EndedAt: 2025-08-15 09:56:10 -0400 (Fri, 15 Aug 2025) EllapsedTime: 10.6 seconds RetCode: 0 Status: OK PackageFile: CFAssay_1.43.0.zip PackageFileSize: 274.4 KiB