Package: CFAssay Version: 1.43.0 Command: /Library/Frameworks/R.framework/Resources/bin/R CMD INSTALL CFAssay StartedAt: 2025-05-07 15:01:43 -0400 (Wed, 07 May 2025) EndedAt: 2025-05-07 15:01:47 -0400 (Wed, 07 May 2025) EllapsedTime: 3.8 seconds RetCode: 0 Status: OK