Package: CFAssay Version: 1.43.0 Command: /Library/Frameworks/R.framework/Resources/bin/R CMD check --install=check:CFAssay.install-out.txt --library=/Library/Frameworks/R.framework/Resources/library --no-vignettes --timings CFAssay_1.43.0.tar.gz StartedAt: 2025-05-08 18:40:36 -0400 (Thu, 08 May 2025) EndedAt: 2025-05-08 18:40:48 -0400 (Thu, 08 May 2025) EllapsedTime: 12.2 seconds RetCode: 0 Status: OK CheckDir: CFAssay.Rcheck Warnings: 0