Package: CEMiTool Version: 1.33.0 Command: rm -rf CEMiTool.buildbin-libdir && mkdir CEMiTool.buildbin-libdir && F:\biocbuild\bbs-3.22-bioc\R\bin\R.exe CMD INSTALL --build --library=CEMiTool.buildbin-libdir CEMiTool_1.33.0.tar.gz StartedAt: 2025-08-15 09:55:49 -0400 (Fri, 15 Aug 2025) EndedAt: 2025-08-15 09:57:08 -0400 (Fri, 15 Aug 2025) EllapsedTime: 79.4 seconds RetCode: 0 Status: OK PackageFile: CEMiTool_1.33.0.zip PackageFileSize: 5.065 MiB