Package: CDI Version: 1.7.0 Command: /home/biocbuild/bbs-3.22-bioc/R/bin/R CMD INSTALL CDI StartedAt: 2025-09-30 15:19:25 -0400 (Tue, 30 Sep 2025) EndedAt: 2025-09-30 15:20:01 -0400 (Tue, 30 Sep 2025) EllapsedTime: 35.9 seconds RetCode: 0 Status: OK