Package: CDI Version: 1.7.0 Command: /home/biocbuild/bbs-3.22-bioc/R/bin/R CMD build --keep-empty-dirs --no-resave-data --md5 CDI StartedAt: 2025-09-30 16:38:15 -0400 (Tue, 30 Sep 2025) EndedAt: 2025-09-30 16:46:00 -0400 (Tue, 30 Sep 2025) EllapsedTime: 465.4 seconds RetCode: 0 Status: OK PackageFile: CDI_1.7.0.tar.gz PackageFileSize: 2.051 MiB