Package: CDI Version: 1.7.0 Command: /Library/Frameworks/R.framework/Resources/bin/R CMD check --install=check:CDI.install-out.txt --library=/Library/Frameworks/R.framework/Resources/library --no-vignettes --timings CDI_1.7.0.tar.gz StartedAt: 2025-05-27 18:23:00 -0400 (Tue, 27 May 2025) EndedAt: 2025-05-27 18:24:41 -0400 (Tue, 27 May 2025) EllapsedTime: 101.3 seconds RetCode: 0 Status: OK CheckDir: CDI.Rcheck Warnings: 0