Package: CDI Version: 1.7.0 Command: rm -rf CDI.buildbin-libdir && mkdir CDI.buildbin-libdir && /Users/biocbuild/BBS/utils/build-universal.sh CDI_1.7.0.tar.gz /Library/Frameworks/R.framework/Resources/bin/R CDI.buildbin-libdir StartedAt: 2025-05-27 22:08:26 -0400 (Tue, 27 May 2025) EndedAt: 2025-05-27 22:08:41 -0400 (Tue, 27 May 2025) EllapsedTime: 15.3 seconds RetCode: 0 Status: OK PackageFile: CDI_1.7.0.tgz PackageFileSize: 2.118 MiB