Package: CCPlotR Version: 1.7.0 Command: /home/biocbuild/R/R/bin/R CMD INSTALL CCPlotR StartedAt: 2025-10-13 20:49:28 -0000 (Mon, 13 Oct 2025) EndedAt: 2025-10-13 20:49:44 -0000 (Mon, 13 Oct 2025) EllapsedTime: 16.1 seconds RetCode: 0 Status: OK