Package: CCPlotR Version: 1.7.0 Command: /home/biocbuild/R/R/bin/R CMD build --keep-empty-dirs --no-resave-data CCPlotR StartedAt: 2025-10-13 22:56:10 -0000 (Mon, 13 Oct 2025) EndedAt: 2025-10-13 22:57:06 -0000 (Mon, 13 Oct 2025) EllapsedTime: 56.0 seconds RetCode: 0 Status: OK PackageFile: CCPlotR_1.7.0.tar.gz PackageFileSize: 3.386 MiB