Package: CCPlotR Version: 1.7.0 Command: rm -rf CCPlotR.buildbin-libdir && mkdir CCPlotR.buildbin-libdir && /Users/biocbuild/BBS/utils/build-universal.sh CCPlotR_1.7.0.tar.gz /Library/Frameworks/R.framework/Resources/bin/R CCPlotR.buildbin-libdir StartedAt: 2025-05-08 23:07:02 -0400 (Thu, 08 May 2025) EndedAt: 2025-05-08 23:07:09 -0400 (Thu, 08 May 2025) EllapsedTime: 7.1 seconds RetCode: 0 Status: OK PackageFile: CCPlotR_1.7.0.tgz PackageFileSize: 2.704 MiB