Package: CCPROMISE Version: 1.35.0 Command: /home/biocbuild/R/R/bin/R CMD build --keep-empty-dirs --no-resave-data CCPROMISE StartedAt: 2025-10-16 23:48:35 -0000 (Thu, 16 Oct 2025) EndedAt: 2025-10-16 23:49:27 -0000 (Thu, 16 Oct 2025) EllapsedTime: 52.0 seconds RetCode: 0 Status: OK PackageFile: CCPROMISE_1.35.0.tar.gz PackageFileSize: 1.028 MiB