Package: CCAFE Version: 1.1.0 Command: /Library/Frameworks/R.framework/Resources/bin/R CMD INSTALL CCAFE StartedAt: 2025-10-10 15:24:17 -0400 (Fri, 10 Oct 2025) EndedAt: 2025-10-10 15:24:18 -0400 (Fri, 10 Oct 2025) EllapsedTime: 1.4 seconds RetCode: 0 Status: OK