Package: CCAFE Version: 1.1.0 Command: rm -rf CCAFE.buildbin-libdir && mkdir CCAFE.buildbin-libdir && /Users/biocbuild/BBS/utils/build-universal.sh CCAFE_1.1.0.tar.gz /Library/Frameworks/R.framework/Resources/bin/R CCAFE.buildbin-libdir StartedAt: 2025-10-10 22:34:50 -0400 (Fri, 10 Oct 2025) EndedAt: 2025-10-10 22:34:53 -0400 (Fri, 10 Oct 2025) EllapsedTime: 3.1 seconds RetCode: 0 Status: OK PackageFile: CCAFE_1.1.0.tgz PackageFileSize: 5.701 MiB