Package: CARNIVAL Version: 2.17.0 Command: chmod a+r CARNIVAL -R && E:\biocbuild\bbs-3.21-bioc\R\bin\R.exe CMD build --keep-empty-dirs --no-resave-data CARNIVAL StartedAt: 2025-02-20 17:42:33 -0500 (Thu, 20 Feb 2025) EndedAt: 2025-02-20 17:43:43 -0500 (Thu, 20 Feb 2025) EllapsedTime: 69.5 seconds RetCode: 0 Status: OK PackageFile: CARNIVAL_2.17.0.tar.gz PackageFileSize: 2.047 MiB