Package: CARNIVAL Version: 2.17.0 Command: /home/biocbuild/bbs-3.21-bioc/R/bin/R CMD INSTALL CARNIVAL StartedAt: 2025-02-03 15:18:06 -0500 (Mon, 03 Feb 2025) EndedAt: 2025-02-03 15:18:11 -0500 (Mon, 03 Feb 2025) EllapsedTime: 5.4 seconds RetCode: 0 Status: OK