Package: CARNIVAL Version: 2.19.0 Command: /Library/Frameworks/R.framework/Resources/bin/R CMD INSTALL CARNIVAL StartedAt: 2025-05-06 15:09:35 -0400 (Tue, 06 May 2025) EndedAt: 2025-05-06 15:09:58 -0400 (Tue, 06 May 2025) EllapsedTime: 23.6 seconds RetCode: 0 Status: OK