Package: CARNIVAL Version: 2.19.0 Command: /Library/Frameworks/R.framework/Resources/bin/R CMD build --keep-empty-dirs --no-resave-data CARNIVAL StartedAt: 2025-05-08 16:11:40 -0400 (Thu, 08 May 2025) EndedAt: 2025-05-08 16:11:54 -0400 (Thu, 08 May 2025) EllapsedTime: 13.7 seconds RetCode: 0 Status: OK PackageFile: CARNIVAL_2.19.0.tar.gz PackageFileSize: 2.047 MiB