Package: CARDspa Version: 1.3.0 Command: /home/biocbuild/bbs-3.23-bioc/R/bin/R CMD build --keep-empty-dirs --no-resave-data CARDspa StartedAt: 2025-11-11 16:41:39 -0500 (Tue, 11 Nov 2025) EndedAt: 2025-11-11 16:48:01 -0500 (Tue, 11 Nov 2025) EllapsedTime: 381.3 seconds RetCode: 0 Status: OK PackageFile: CARDspa_1.3.0.tar.gz PackageFileSize: 3.833 MiB