Package: CARDspa Version: 1.1.0 Command: /Library/Frameworks/R.framework/Resources/bin/R CMD INSTALL CARDspa StartedAt: 2025-10-24 15:21:18 -0400 (Fri, 24 Oct 2025) EndedAt: 2025-10-24 15:21:39 -0400 (Fri, 24 Oct 2025) EllapsedTime: 20.4 seconds RetCode: 0 Status: OK