Package: CAMERA Version: 1.63.0 Command: E:\biocbuild\bbs-3.21-bioc\R\bin\R.exe CMD check --no-multiarch --install=check:CAMERA.install-out.txt --library=E:\biocbuild\bbs-3.21-bioc\R\library --no-vignettes --timings CAMERA_1.63.0.tar.gz StartedAt: 2025-02-03 23:48:28 -0500 (Mon, 03 Feb 2025) EndedAt: 2025-02-04 00:09:53 -0500 (Tue, 04 Feb 2025) EllapsedTime: 1284.5 seconds RetCode: 0 Status: WARNINGS CheckDir: CAMERA.Rcheck Warnings: 1