Package: CAMERA Version: 1.65.1 Command: /home/biocbuild/bbs-3.22-bioc/R/bin/R CMD INSTALL CAMERA StartedAt: 2025-09-29 15:54:52 -0400 (Mon, 29 Sep 2025) EndedAt: 2025-09-29 15:56:08 -0400 (Mon, 29 Sep 2025) EllapsedTime: 75.8 seconds RetCode: 0 Status: OK