Package: CAMERA Version: 1.65.1 Command: /home/biocbuild/bbs-3.22-bioc/R/bin/R CMD build --keep-empty-dirs --no-resave-data --md5 CAMERA StartedAt: 2025-09-29 16:53:12 -0400 (Mon, 29 Sep 2025) EndedAt: 2025-09-29 16:54:42 -0400 (Mon, 29 Sep 2025) EllapsedTime: 90.1 seconds RetCode: 0 Status: OK PackageFile: CAMERA_1.65.1.tar.gz PackageFileSize: 2.439 MiB