Package: CAMERA Version: 1.63.0 Command: /home/biocbuild/bbs-3.21-bioc/R/bin/R CMD INSTALL CAMERA StartedAt: 2025-02-03 15:49:23 -0500 (Mon, 03 Feb 2025) EndedAt: 2025-02-03 15:50:13 -0500 (Mon, 03 Feb 2025) EllapsedTime: 50.6 seconds RetCode: 0 Status: OK