Package: CAMERA Version: 1.63.0 Command: /Library/Frameworks/R.framework/Resources/bin/R CMD INSTALL CAMERA StartedAt: 2025-02-03 15:37:01 -0500 (Mon, 03 Feb 2025) EndedAt: 2025-02-03 15:38:10 -0500 (Mon, 03 Feb 2025) EllapsedTime: 69.6 seconds RetCode: 0 Status: OK