Package: CAMERA Version: 1.63.0 Command: rm -rf CAMERA.buildbin-libdir && mkdir CAMERA.buildbin-libdir && /Users/biocbuild/BBS/utils/build-universal.sh CAMERA_1.63.0.tar.gz /Library/Frameworks/R.framework/Resources/bin/R CAMERA.buildbin-libdir StartedAt: 2025-02-04 00:25:42 -0500 (Tue, 04 Feb 2025) EndedAt: 2025-02-04 00:26:56 -0500 (Tue, 04 Feb 2025) EllapsedTime: 73.7 seconds RetCode: 0 Status: OK PackageFile: CAMERA_1.63.0.tgz PackageFileSize: 3.093 MiB