Package: CAMERA Version: 1.63.0 Command: /Library/Frameworks/R.framework/Resources/bin/R CMD check --install=check:CAMERA.install-out.txt --library=/Library/Frameworks/R.framework/Resources/library --no-vignettes --timings CAMERA_1.63.0.tar.gz StartedAt: 2025-02-03 18:59:51 -0500 (Mon, 03 Feb 2025) EndedAt: 2025-02-03 19:02:50 -0500 (Mon, 03 Feb 2025) EllapsedTime: 179.1 seconds RetCode: 1 Status: ERROR CheckDir: CAMERA.Rcheck Warnings: NA