Package: CAGEr Version: 2.15.1 Command: /home/biocbuild/bbs-3.22-bioc/R/bin/R CMD INSTALL CAGEr StartedAt: 2025-10-08 16:16:14 -0400 (Wed, 08 Oct 2025) EndedAt: 2025-10-08 16:17:44 -0400 (Wed, 08 Oct 2025) EllapsedTime: 89.2 seconds RetCode: 0 Status: OK