Package: CAGEr Version: 2.15.1 Command: /home/biocbuild/bbs-3.22-bioc/R/bin/R CMD build --keep-empty-dirs --no-resave-data --md5 CAGEr StartedAt: 2025-10-08 16:58:00 -0400 (Wed, 08 Oct 2025) EndedAt: 2025-10-08 17:01:25 -0400 (Wed, 08 Oct 2025) EllapsedTime: 205.2 seconds RetCode: 0 Status: OK PackageFile: CAGEr_2.15.1.tar.gz PackageFileSize: 1.949 MiB