Package: CAGEfightR Version: 1.29.1 Command: rm -rf CAGEfightR.buildbin-libdir && mkdir CAGEfightR.buildbin-libdir && /Users/biocbuild/BBS/utils/build-universal.sh CAGEfightR_1.29.1.tar.gz /Library/Frameworks/R.framework/Resources/bin/R CAGEfightR.buildbin-libdir StartedAt: 2025-10-02 22:57:16 -0400 (Thu, 02 Oct 2025) EndedAt: 2025-10-02 22:57:38 -0400 (Thu, 02 Oct 2025) EllapsedTime: 22.4 seconds RetCode: 0 Status: OK PackageFile: CAGEfightR_1.29.1.tgz PackageFileSize: 2.626 MiB