| Back to Multiple platform build/check report for BioC 3.23: simplified long |
|
This page was generated on 2025-11-22 11:38 -0500 (Sat, 22 Nov 2025).
| Hostname | OS | Arch (*) | R version | Installed pkgs |
|---|---|---|---|---|
| nebbiolo1 | Linux (Ubuntu 24.04.3 LTS) | x86_64 | R Under development (unstable) (2025-10-20 r88955) -- "Unsuffered Consequences" | 4829 |
| lconway | macOS 12.7.6 Monterey | x86_64 | R Under development (unstable) (2025-10-21 r88958) -- "Unsuffered Consequences" | 4603 |
| kjohnson3 | macOS 13.7.7 Ventura | arm64 | R Under development (unstable) (2025-11-04 r88984) -- "Unsuffered Consequences" | 4567 |
| Click on any hostname to see more info about the system (e.g. compilers) (*) as reported by 'uname -p', except on Windows and Mac OS X | ||||
| Package 266/2327 | Hostname | OS / Arch | INSTALL | BUILD | CHECK | BUILD BIN | ||||||||
| CAGEfightR 1.31.0 (landing page) Malte Thodberg
| nebbiolo1 | Linux (Ubuntu 24.04.3 LTS) / x86_64 | OK | OK | OK | |||||||||
| lconway | macOS 12.7.6 Monterey / x86_64 | OK | OK | OK | OK | |||||||||
| kjohnson3 | macOS 13.7.7 Ventura / arm64 | OK | OK | OK | OK | |||||||||
|
To the developers/maintainers of the CAGEfightR package: - Allow up to 24 hours (and sometimes 48 hours) for your latest push to git@git.bioconductor.org:packages/CAGEfightR.git to reflect on this report. See Troubleshooting Build Report for more information. - Use the following Renviron settings to reproduce errors and warnings. - If 'R CMD check' started to fail recently on the Linux builder(s) over a missing dependency, add the missing dependency to 'Suggests:' in your DESCRIPTION file. See Renviron.bioc for more information. |
| Package: CAGEfightR |
| Version: 1.31.0 |
| Command: /Library/Frameworks/R.framework/Resources/bin/R CMD check --install=check:CAGEfightR.install-out.txt --library=/Library/Frameworks/R.framework/Resources/library --no-vignettes --timings CAGEfightR_1.31.0.tar.gz |
| StartedAt: 2025-11-21 19:53:58 -0500 (Fri, 21 Nov 2025) |
| EndedAt: 2025-11-21 20:01:21 -0500 (Fri, 21 Nov 2025) |
| EllapsedTime: 443.5 seconds |
| RetCode: 0 |
| Status: OK |
| CheckDir: CAGEfightR.Rcheck |
| Warnings: 0 |
##############################################################################
##############################################################################
###
### Running command:
###
### /Library/Frameworks/R.framework/Resources/bin/R CMD check --install=check:CAGEfightR.install-out.txt --library=/Library/Frameworks/R.framework/Resources/library --no-vignettes --timings CAGEfightR_1.31.0.tar.gz
###
##############################################################################
##############################################################################
* using log directory ‘/Users/biocbuild/bbs-3.23-bioc/meat/CAGEfightR.Rcheck’
* using R Under development (unstable) (2025-10-21 r88958)
* using platform: x86_64-apple-darwin20
* R was compiled by
Apple clang version 14.0.0 (clang-1400.0.29.202)
GNU Fortran (GCC) 14.2.0
* running under: macOS Ventura 13.7.8
* using session charset: UTF-8
* using option ‘--no-vignettes’
* checking for file ‘CAGEfightR/DESCRIPTION’ ... OK
* checking extension type ... Package
* this is package ‘CAGEfightR’ version ‘1.31.0’
* package encoding: UTF-8
* checking package namespace information ... OK
* checking package dependencies ... OK
* checking if this is a source package ... OK
* checking if there is a namespace ... OK
* checking for hidden files and directories ... OK
* checking for portable file names ... OK
* checking for sufficient/correct file permissions ... OK
* checking whether package ‘CAGEfightR’ can be installed ... OK
* checking installed package size ... OK
* checking package directory ... OK
* checking ‘build’ directory ... OK
* checking DESCRIPTION meta-information ... OK
* checking top-level files ... OK
* checking for left-over files ... OK
* checking index information ... OK
* checking package subdirectories ... OK
* checking code files for non-ASCII characters ... OK
* checking R files for syntax errors ... OK
* checking whether the package can be loaded ... OK
* checking whether the package can be loaded with stated dependencies ... OK
* checking whether the package can be unloaded cleanly ... OK
* checking whether the namespace can be loaded with stated dependencies ... OK
* checking whether the namespace can be unloaded cleanly ... OK
* checking whether startup messages can be suppressed ... OK
* checking dependencies in R code ... OK
* checking S3 generic/method consistency ... OK
* checking replacement functions ... OK
* checking foreign function calls ... OK
* checking R code for possible problems ... OK
* checking Rd files ... OK
* checking Rd metadata ... OK
* checking Rd cross-references ... OK
* checking for missing documentation entries ... OK
* checking for code/documentation mismatches ... OK
* checking Rd \usage sections ... OK
* checking Rd contents ... OK
* checking for unstated dependencies in examples ... OK
* checking contents of ‘data’ directory ... OK
* checking data for non-ASCII characters ... OK
* checking LazyData ... OK
* checking data for ASCII and uncompressed saves ... OK
* checking files in ‘vignettes’ ... OK
* checking examples ... OK
Examples with CPU (user + system) or elapsed time > 5s
user system elapsed
findLinks 6.438 0.709 6.687
* checking for unstated dependencies in vignettes ... OK
* checking package vignettes ... OK
* checking running R code from vignettes ... SKIPPED
* checking re-building of vignette outputs ... SKIPPED
* checking PDF version of manual ... OK
* DONE
Status: OK
CAGEfightR.Rcheck/00install.out
############################################################################## ############################################################################## ### ### Running command: ### ### /Library/Frameworks/R.framework/Resources/bin/R CMD INSTALL CAGEfightR ### ############################################################################## ############################################################################## * installing to library ‘/Library/Frameworks/R.framework/Versions/4.6-x86_64/Resources/library’ * installing *source* package ‘CAGEfightR’ ... ** this is package ‘CAGEfightR’ version ‘1.31.0’ ** using staged installation ** R ** data *** moving datasets to lazyload DB ** inst ** byte-compile and prepare package for lazy loading ** help *** installing help indices ** building package indices ** installing vignettes ** testing if installed package can be loaded from temporary location ** testing if installed package can be loaded from final location ** testing if installed package keeps a record of temporary installation path * DONE (CAGEfightR)
CAGEfightR.Rcheck/CAGEfightR-Ex.timings
| name | user | system | elapsed | |
| assignGeneID | 4.029 | 0.125 | 4.217 | |
| assignMissingID | 1.144 | 0.034 | 1.187 | |
| assignTxID | 1.045 | 0.036 | 1.090 | |
| assignTxType | 0.000 | 0.001 | 0.001 | |
| balanceBC | 0.001 | 0.000 | 0.001 | |
| balanceD | 0 | 0 | 0 | |
| bwCommonGenome | 0.036 | 0.007 | 0.045 | |
| bwGenomeCompatibility | 0.020 | 0.005 | 0.027 | |
| bwValid | 0.009 | 0.004 | 0.013 | |
| calcBidirectionality | 0.469 | 0.020 | 0.493 | |
| calcComposition | 1.511 | 0.047 | 1.570 | |
| calcPooled | 0.101 | 0.006 | 0.107 | |
| calcShape | 2.619 | 0.088 | 2.725 | |
| calcSupport | 0.139 | 0.008 | 0.148 | |
| calcTPM | 0.136 | 0.005 | 0.141 | |
| calcTotalTags | 0.060 | 0.003 | 0.062 | |
| checkCTSSs | 0.266 | 0.007 | 0.276 | |
| checkPeaked | 0.062 | 0.004 | 0.067 | |
| checkPooled | 0.064 | 0.004 | 0.069 | |
| clusterBidirectionally | 0 | 0 | 0 | |
| clusterUnidirectionally | 1.688 | 0.028 | 1.726 | |
| combineClusters | 0.851 | 0.015 | 0.870 | |
| convertBAM2BigWig | 0 | 0 | 0 | |
| convertBED2BigWig | 0.000 | 0.001 | 0.000 | |
| convertGRanges2GPos | 0.085 | 0.001 | 0.086 | |
| exampleDesign | 0.005 | 0.014 | 0.019 | |
| findLinks | 6.438 | 0.709 | 6.687 | |
| findStretches | 0.442 | 0.062 | 0.509 | |
| quantifyCTSSs | 0.000 | 0.000 | 0.001 | |
| quantifyCTSSs2 | 0.000 | 0.000 | 0.001 | |
| quantifyClusters | 0.405 | 0.059 | 0.470 | |
| quantifyGenes | 1.367 | 0.126 | 1.562 | |
| quickEnhancers | 0 | 0 | 0 | |
| quickGenes | 0 | 0 | 0 | |
| quickTSSs | 0 | 0 | 0 | |
| shapeEntropy | 0.000 | 0.000 | 0.001 | |
| shapeIQR | 0.000 | 0.000 | 0.001 | |
| shapeMean | 0.001 | 0.001 | 0.001 | |
| shapeMultimodality | 0 | 0 | 0 | |
| subsetByBidirectionality | 0.494 | 0.046 | 0.541 | |
| subsetByComposition | 1.405 | 0.050 | 1.464 | |
| subsetBySupport | 0.078 | 0.005 | 0.083 | |
| swapRanges | 0.184 | 0.008 | 0.195 | |
| swapScores | 0.102 | 0.007 | 0.109 | |
| trackBalance | 0.000 | 0.001 | 0.001 | |
| trackCTSS | 3.697 | 0.313 | 4.033 | |
| trackClusters | 2.266 | 0.034 | 2.310 | |
| trackLinks | 1.074 | 0.364 | 1.232 | |
| trimToPeak | 0.970 | 0.104 | 1.077 | |
| trimToPercentiles | 2.365 | 0.089 | 2.471 | |
| tuneTagClustering | 0.000 | 0.000 | 0.001 | |
| utilsAggregateRows | 0.379 | 0.351 | 0.735 | |
| utilsDeStrand | 0.145 | 0.004 | 0.152 | |
| utilsScoreOverlaps | 0.075 | 0.001 | 0.076 | |
| utilsSimplifyTxDb | 0 | 0 | 0 | |