Package: CAFE Version: 1.43.0 Command: /home/biocbuild/bbs-3.21-bioc/R/bin/R CMD check --install=check:CAFE.install-out.txt --library=/home/biocbuild/bbs-3.21-bioc/R/site-library --timings CAFE_1.43.0.tar.gz StartedAt: 2025-02-03 20:46:02 -0500 (Mon, 03 Feb 2025) EndedAt: 2025-02-03 20:52:36 -0500 (Mon, 03 Feb 2025) EllapsedTime: 394.4 seconds RetCode: 0 Status: WARNINGS CheckDir: CAFE.Rcheck Warnings: 1