Package: CAFE Version: 1.43.0 Command: /Library/Frameworks/R.framework/Resources/bin/R CMD check --install=check:CAFE.install-out.txt --library=/Library/Frameworks/R.framework/Resources/library --no-vignettes --timings CAFE_1.43.0.tar.gz StartedAt: 2025-02-04 19:21:37 -0500 (Tue, 04 Feb 2025) EndedAt: 2025-02-04 19:28:16 -0500 (Tue, 04 Feb 2025) EllapsedTime: 399.5 seconds RetCode: 0 Status: WARNINGS CheckDir: CAFE.Rcheck Warnings: 1