Package: CAFE Version: 1.43.0 Command: rm -rf CAFE.buildbin-libdir && mkdir CAFE.buildbin-libdir && /Users/biocbuild/BBS/utils/build-universal.sh CAFE_1.43.0.tar.gz /Library/Frameworks/R.framework/Resources/bin/R CAFE.buildbin-libdir StartedAt: 2025-02-05 00:31:25 -0500 (Wed, 05 Feb 2025) EndedAt: 2025-02-05 00:32:43 -0500 (Wed, 05 Feb 2025) EllapsedTime: 78.4 seconds RetCode: 0 Status: OK PackageFile: CAFE_1.43.0.tgz PackageFileSize: 4.687 MiB