Package: CAFE
Version: 1.43.0
Command: /Library/Frameworks/R.framework/Resources/bin/R CMD build --keep-empty-dirs --no-resave-data CAFE
StartedAt: 2025-02-09 15:46:09 -0500 (Sun, 09 Feb 2025)
EndedAt: 2025-02-09 15:46:41 -0500 (Sun, 09 Feb 2025)
EllapsedTime: 32.3 seconds
RetCode: 0
Status: OK
PackageFile: CAFE_1.43.0.tar.gz
PackageFileSize: 4.629 <A href="http://en.wikipedia.org/wiki/MiB" target="_blank">MiB</A>