Package: CAEN Version: 1.17.0 Command: chmod a+r CAEN -R && F:\biocbuild\bbs-3.22-bioc\R\bin\R.exe CMD build --keep-empty-dirs --no-resave-data CAEN StartedAt: 2025-08-14 18:53:22 -0400 (Thu, 14 Aug 2025) EndedAt: 2025-08-14 18:56:24 -0400 (Thu, 14 Aug 2025) EllapsedTime: 182.4 seconds RetCode: 0 Status: OK PackageFile: CAEN_1.17.0.tar.gz PackageFileSize: 988.4 KiB