Package: CAEN Version: 1.17.0 Command: /home/biocbuild/bbs-3.22-bioc/R/bin/R CMD INSTALL CAEN StartedAt: 2025-10-07 15:37:49 -0400 (Tue, 07 Oct 2025) EndedAt: 2025-10-07 15:38:09 -0400 (Tue, 07 Oct 2025) EllapsedTime: 20.0 seconds RetCode: 0 Status: OK