Package: BulkSignalR Version: 1.1.5 Command: /home/biocbuild/R/R/bin/R CMD INSTALL BulkSignalR StartedAt: 2025-10-23 21:24:25 -0000 (Thu, 23 Oct 2025) EndedAt: 2025-10-23 21:25:35 -0000 (Thu, 23 Oct 2025) EllapsedTime: 69.6 seconds RetCode: 0 Status: OK