Package: BulkSignalR Version: 1.1.5 Command: /home/biocbuild/R/R/bin/R CMD build --keep-empty-dirs --no-resave-data BulkSignalR StartedAt: 2025-10-20 22:24:46 -0000 (Mon, 20 Oct 2025) EndedAt: 2025-10-20 22:30:29 -0000 (Mon, 20 Oct 2025) EllapsedTime: 343.1 seconds RetCode: 0 Status: OK PackageFile: BulkSignalR_1.1.5.tar.gz PackageFileSize: 2.674 MiB