Package: BufferedMatrixMethods Version: 1.71.1 Command: /home/biocbuild/R/R/bin/R CMD INSTALL BufferedMatrixMethods StartedAt: 2025-01-29 19:33:40 -0000 (Wed, 29 Jan 2025) EndedAt: 2025-01-29 19:34:11 -0000 (Wed, 29 Jan 2025) EllapsedTime: 30.9 seconds RetCode: 0 Status: OK