Package: BufferedMatrix Version: 1.75.0 Command: /home/biocbuild/bbs-3.23-bioc/R/bin/R CMD INSTALL BufferedMatrix StartedAt: 2025-11-21 15:02:53 -0500 (Fri, 21 Nov 2025) EndedAt: 2025-11-21 15:02:58 -0500 (Fri, 21 Nov 2025) EllapsedTime: 5.3 seconds RetCode: 0 Status: OK