Package: BufferedMatrix Version: 1.73.0 Command: /Library/Frameworks/R.framework/Resources/bin/R CMD INSTALL BufferedMatrix StartedAt: 2025-09-29 15:01:29 -0400 (Mon, 29 Sep 2025) EndedAt: 2025-09-29 15:01:32 -0400 (Mon, 29 Sep 2025) EllapsedTime: 3.0 seconds RetCode: 0 Status: OK