Package: BufferedMatrix Version: 1.73.0 Command: /Library/Frameworks/R.framework/Resources/bin/R CMD build --keep-empty-dirs --no-resave-data BufferedMatrix StartedAt: 2025-09-30 15:48:57 -0400 (Tue, 30 Sep 2025) EndedAt: 2025-09-30 15:49:03 -0400 (Tue, 30 Sep 2025) EllapsedTime: 6.1 seconds RetCode: 0 Status: OK PackageFile: BufferedMatrix_1.73.0.tar.gz PackageFileSize: 630.2 KiB